BEGIN:VCALENDAR
VERSION:2.0
PRODID:-//AHEPA 286 - ECPv6.15.20//NONSGML v1.0//EN
CALSCALE:GREGORIAN
METHOD:PUBLISH
X-WR-CALNAME:AHEPA 286
X-ORIGINAL-URL:https://ahepa286.org
X-WR-CALDESC:Events for AHEPA 286
REFRESH-INTERVAL;VALUE=DURATION:PT1H
X-Robots-Tag:noindex
X-PUBLISHED-TTL:PT1H
BEGIN:VTIMEZONE
TZID:America/New_York
BEGIN:DAYLIGHT
TZOFFSETFROM:-0500
TZOFFSETTO:-0400
TZNAME:EDT
DTSTART:20250309T070000
END:DAYLIGHT
BEGIN:STANDARD
TZOFFSETFROM:-0400
TZOFFSETTO:-0500
TZNAME:EST
DTSTART:20251102T060000
END:STANDARD
BEGIN:DAYLIGHT
TZOFFSETFROM:-0500
TZOFFSETTO:-0400
TZNAME:EDT
DTSTART:20260308T070000
END:DAYLIGHT
BEGIN:STANDARD
TZOFFSETFROM:-0400
TZOFFSETTO:-0500
TZNAME:EST
DTSTART:20261101T060000
END:STANDARD
BEGIN:DAYLIGHT
TZOFFSETFROM:-0500
TZOFFSETTO:-0400
TZNAME:EDT
DTSTART:20270314T070000
END:DAYLIGHT
BEGIN:STANDARD
TZOFFSETFROM:-0400
TZOFFSETTO:-0500
TZNAME:EST
DTSTART:20271107T060000
END:STANDARD
END:VTIMEZONE
BEGIN:VEVENT
DTSTART;TZID=America/New_York:20260315T123000
DTEND;TZID=America/New_York:20260315T140000
DTSTAMP:20260422T184935
CREATED:20260109T015602Z
LAST-MODIFIED:20260315T075804Z
UID:532-1773577800-1773583200@ahepa286.org
SUMMARY:March Chapter Meeting
DESCRIPTION:This months meeting will take place at St. Constantine and Helen Greek Orthodox Church\, in the sunroom.
URL:https://ahepa286.org/event/march-chapter-meeting/
LOCATION:St. Constantine & Helen Greek Orthodox Church\, 2747 Riva Rd\, Annapolis\, MD\, 21401\, United States
ORGANIZER;CN="AHEPA Chapter 286":MAILTO:ahepa286p@gmail.com
END:VEVENT
BEGIN:VEVENT
DTSTART;TZID=America/New_York:20260329T140000
DTEND;TZID=America/New_York:20260329T180000
DTSTAMP:20260422T184935
CREATED:20260122T222535Z
LAST-MODIFIED:20260315T081007Z
UID:542-1774792800-1774807200@ahepa286.org
SUMMARY:Greek Independence Day Parade
DESCRIPTION:
URL:https://ahepa286.org/event/greek-independence-day-parade-2/
LOCATION:Baltimore Greektown\, Eastern Ave\, Baltimore\, MA\, United States
ATTACH;FMTTYPE=image/jpeg:https://ahepa286.org/wp-content/uploads/2026/01/IMG_8287.jpg
END:VEVENT
BEGIN:VEVENT
DTSTART;TZID=America/New_York:20260406T070000
DTEND;TZID=America/New_York:20260406T080000
DTSTAMP:20260422T184935
CREATED:20260315T080242Z
LAST-MODIFIED:20260315T080805Z
UID:660-1775458800-1775462400@ahepa286.org
SUMMARY:AHEPA Breakfast Social
DESCRIPTION:AHEPA Chapter 286 Breakfast Social – April 6 in Annapolis\n  \nJoin the brothers and friends of AHEPA Chapter 286 for a welcoming Breakfast Social in Annapolis on Monday\, April 6th at 7:00 AM at the popular Double T Diner. This casual morning gathering is a great opportunity for members\, family\, and prospective members to connect\, enjoy good food\, and strengthen the bonds of our local Greek-American community. \nOur AHEPA breakfast social offers a relaxed atmosphere where attendees can share conversation\, discuss upcoming chapter initiatives\, and build friendships over a hearty breakfast. Whether you are a long-time member or simply interested in learning more about AHEPA’s mission of Hellenism\, philanthropy\, education\, and community service\, you are warmly invited to attend. \nThe Double T Diner in Annapolis provides a comfortable setting and a menu with something for everyone. Arrive early\, grab a coffee\, and enjoy a morning of fellowship with members of AHEPA Chapter 286. \nWe look forward to seeing you there and continuing our tradition of community\, friendship\, and Greek heritage. \nEvent Details \n\n\nEvent: AHEPA Breakfast Social \n\n\nDate: Monday\, April 6 \n\n\nTime: 7:00 AM \n\n\nLocation: Double T Diner\, Annapolis \n\n\n  \nCome start your day the AHEPA way—with good food\, great conversation\, and strong community ties.
URL:https://ahepa286.org/event/ahepa-breakfast-social/
LOCATION:Double T Diner\, 12 Defense St\, Annapolis\, MD\, 21401
ATTACH;FMTTYPE=image/png:https://ahepa286.org/wp-content/uploads/2026/03/AHEPA-Breakfast-Social.png
END:VEVENT
BEGIN:VEVENT
DTSTART;TZID=America/New_York:20260416T190000
DTEND;TZID=America/New_York:20260416T203000
DTSTAMP:20260422T184935
CREATED:20260401T190157Z
LAST-MODIFIED:20260401T190157Z
UID:686-1776366000-1776371400@ahepa286.org
SUMMARY:April Chapter Meeting
DESCRIPTION:This month’s meeting will be held in the sunroom located at St. Constantine and Helen Greek Orthodox Church.
URL:https://ahepa286.org/event/april-chapter-meeting/
LOCATION:St. Constantine & Helen Greek Orthodox Church\, 2747 Riva Rd\, Annapolis\, MD\, 21401\, United States
ORGANIZER;CN="AHEPA Chapter 286":MAILTO:ahepa286p@gmail.com
END:VEVENT
BEGIN:VEVENT
DTSTART;TZID=America/New_York:20260418T120000
DTEND;TZID=America/New_York:20260418T150000
DTSTAMP:20260422T184935
CREATED:20260227T233552Z
LAST-MODIFIED:20260227T233552Z
UID:642-1776513600-1776524400@ahepa286.org
SUMMARY:BRIGHT SATURDAY AHEPA BBQ
DESCRIPTION:🌿 Bright Saturday AHEPA Barbecue – Celebrating Pascha Together!\n  \nSpring is in the air\, the flowers are blooming\, and our community is gathering once again for one of the most anticipated celebrations of the season — Bright Saturday with AHEPA Chapter 286! \nThis year\, we invite you\, your family\, and your friends to join us for a joyful afternoon of fellowship\, delicious food\, and celebration as we commemorate Pascha in true AHEPA spirit. \n\n\n  \n\n📅 Event Details\n  \nBright Saturday AHEPA Barbecue \nSaturday\, April 18\, 2026 \n12:00 PM – 3:00 PM \n📍 Pavilion at Old Navy Dairy Farm \n100 Dairy Lane \nGambrills\, MD 21054 \n(Located next to David’s Natural Market) \nSet against the scenic countryside of Gambrills\, the pavilion offers a charming\, relaxed outdoor atmosphere — the perfect setting to gather after the joy of Easter and continue the celebration with our extended AHEPA family. \n\n\n  \n\n✨ What is Bright Saturday?\n  \nBright Saturday falls during Bright Week — the week following Pascha in the Orthodox Christian tradition. It is a time of continued celebration\, renewal\, and joy. Rather than letting the festivity end after Easter Sunday\, we extend the spirit of resurrection\, hope\, and unity into the week. \nAnd what better way to celebrate than together — outdoors\, with food\, laughter\, and fellowship? \n\n\n  \n\n🍗 A Feast Worth Gathering For\n  \nOur barbecue will feature: \n\n\n\nGrilled favorites fresh off the barbecue \n\n\nTraditional and seasonal sides \n\n\nRefreshing beverages \n\n\nSweet treats \n\n\nFamily-friendly fare for all ages \n\n\n  \nPicture a red-checkered picnic table\, sunshine overhead\, and the comforting aroma of grilled specialties filling the spring air. Whether you’re enjoying a cold drink\, a fresh glass of lemonade\, or a plate filled with barbecue favorites\, there will be something for everyone. \n\n\n  \n\n👨‍👩‍👧‍👦 Family-Friendly & Community-Focused\n  \nThis event is designed for the entire family. \n💲 $25 per person (ages 11 and older) \n🎉 Children 10 and under are FREE! \nBring the kids. Invite grandparents. Encourage friends to attend. Bright Saturday is about extending hospitality and strengthening the bonds that make our community vibrant. \nExpect: \n\n\n\nA welcoming and relaxed atmosphere \n\n\nFellowship among brothers and friends \n\n\nLaughter and storytelling \n\n\nOpportunities to reconnect and meet new faces \n\n\n  \n\n\n  \n\n🌼 Why You Should Attend\n  \nAHEPA Chapter 286 continues its proud tradition of service\, heritage\, and community engagement. Events like this do more than provide a meal — they strengthen our brotherhood and our connection to faith and culture. \nBright Saturday is: \n\n\n\nA celebration of Paschal joy \n\n\nA chance to gather outside of formal meetings \n\n\nAn opportunity to introduce others to AHEPA \n\n\nA reminder that community is built around the table \n\n\n  \nIn a world that often feels rushed and disconnected\, an afternoon like this offers something simple and meaningful — shared presence. \n\n\n  \n\n📣 RSVP Information\n  \nPlease RSVP no later than March 14\, 2026. \nFor tickets and information\, contact: \nChapter President Sam Karides \n📧 ahepa286p@gmail.com \nEarly RSVP helps us prepare properly and ensure plenty of food and seating for all. \n\n\n  \n\n🌸 Join Us!\n  \nMark your calendar now. Bring your appetite. Bring your smile. Bring someone new. \nLet’s celebrate Bright Saturday together — with gratitude\, joy\, and the warmth of fellowship that defines AHEPA Chapter 286. \nWe look forward to seeing you on April 18th!
URL:https://ahepa286.org/event/bright-saturday-ahepa-bbq/
LOCATION:Pavilion at Old Navy Dairy Farm\, 100 Dairy Lane\, Gambrills\, MD\, 21054\, United States
ATTACH;FMTTYPE=image/png:https://ahepa286.org/wp-content/uploads/2026/02/Flyer.png
ORGANIZER;CN="AHEPA Chapter 286":MAILTO:ahepa286p@gmail.com
END:VEVENT
BEGIN:VEVENT
DTSTART;TZID=America/New_York:20261219T190000
DTEND;TZID=America/New_York:20261219T210000
DTSTAMP:20260422T184935
CREATED:20260316T225520Z
LAST-MODIFIED:20260316T225520Z
UID:678-1797706800-1797714000@ahepa286.org
SUMMARY:Christmas Movie Night
DESCRIPTION:Christmas with the Karountzoses is a heartwarming Christmas movie that blends holiday comedy\, family tradition\, and faith-filled moments into one memorable story. Centered on a lively Greek family gathering on Christmas Eve\, the film delivers humor\, warmth\, and a meaningful reminder about what matters most during the holiday season. \nPerfect for audiences who enjoy family Christmas movies\, holiday comedies\, and uplifting seasonal films\, Christmas with the Karountzoses celebrates love\, togetherness\, and the true spirit of Christmas. This festive movie is a great choice for a community movie night\, church event\, or anyone looking for a feel-good holiday film with strong family values.
URL:https://ahepa286.org/event/christmas-movie-night/
LOCATION:St. Constantine & Helen Greek Orthodox Church\, 2747 Riva Rd\, Annapolis\, MD\, 21401\, United States
ATTACH;FMTTYPE=application/pdf:https://ahepa286.org/wp-content/uploads/2026/03/image1.pdf
ORGANIZER;CN="AHEPA Chapter 286":MAILTO:ahepa286p@gmail.com
END:VEVENT
END:VCALENDAR