BEGIN:VCALENDAR
VERSION:2.0
PRODID:-//AHEPA 286 - ECPv6.15.20//NONSGML v1.0//EN
CALSCALE:GREGORIAN
METHOD:PUBLISH
X-WR-CALNAME:AHEPA 286
X-ORIGINAL-URL:https://ahepa286.org
X-WR-CALDESC:Events for AHEPA 286
REFRESH-INTERVAL;VALUE=DURATION:PT1H
X-Robots-Tag:noindex
X-PUBLISHED-TTL:PT1H
BEGIN:VTIMEZONE
TZID:America/New_York
BEGIN:DAYLIGHT
TZOFFSETFROM:-0500
TZOFFSETTO:-0400
TZNAME:EDT
DTSTART:20240310T070000
END:DAYLIGHT
BEGIN:STANDARD
TZOFFSETFROM:-0400
TZOFFSETTO:-0500
TZNAME:EST
DTSTART:20241103T060000
END:STANDARD
BEGIN:DAYLIGHT
TZOFFSETFROM:-0500
TZOFFSETTO:-0400
TZNAME:EDT
DTSTART:20250309T070000
END:DAYLIGHT
BEGIN:STANDARD
TZOFFSETFROM:-0400
TZOFFSETTO:-0500
TZNAME:EST
DTSTART:20251102T060000
END:STANDARD
BEGIN:DAYLIGHT
TZOFFSETFROM:-0500
TZOFFSETTO:-0400
TZNAME:EDT
DTSTART:20260308T070000
END:DAYLIGHT
BEGIN:STANDARD
TZOFFSETFROM:-0400
TZOFFSETTO:-0500
TZNAME:EST
DTSTART:20261101T060000
END:STANDARD
BEGIN:DAYLIGHT
TZOFFSETFROM:-0500
TZOFFSETTO:-0400
TZNAME:EDT
DTSTART:20270314T070000
END:DAYLIGHT
BEGIN:STANDARD
TZOFFSETFROM:-0400
TZOFFSETTO:-0500
TZNAME:EST
DTSTART:20271107T060000
END:STANDARD
END:VTIMEZONE
BEGIN:VEVENT
DTSTART;TZID=America/New_York:20260219T190000
DTEND;TZID=America/New_York:20260219T203000
DTSTAMP:20260422T184811
CREATED:20260109T015146Z
LAST-MODIFIED:20260207T065830Z
UID:527-1771527600-1771533000@ahepa286.org
SUMMARY:February Chapter Meeting
DESCRIPTION:The meeting will be held at St. Constantine and Helen Greek Orthodox Church\, in the board room.
URL:https://ahepa286.org/event/february-chapter-meeting-2/
LOCATION:St. Constantine & Helen Greek Orthodox Church\, 2747 Riva Rd\, Annapolis\, MD\, 21401\, United States
ORGANIZER;CN="AHEPA Chapter 286":MAILTO:ahepa286p@gmail.com
END:VEVENT
BEGIN:VEVENT
DTSTART;TZID=America/New_York:20260115T190000
DTEND;TZID=America/New_York:20260115T203000
DTSTAMP:20260422T184811
CREATED:20260109T011131Z
LAST-MODIFIED:20260109T015301Z
UID:521-1768503600-1768509000@ahepa286.org
SUMMARY:January Chapter Meeting
DESCRIPTION:This months meeting will take place at St. Constantine and Helen Greek Orthodox Church\, in the board room. \n  \nWe will be swearing in the new officers for Chapter 286.
URL:https://ahepa286.org/event/january-chapter-meeting/
LOCATION:St. Constantine & Helen Greek Orthodox Church\, 2747 Riva Rd\, Annapolis\, MD\, 21401\, United States
END:VEVENT
BEGIN:VEVENT
DTSTART;TZID=America/New_York:20250619T190000
DTEND;TZID=America/New_York:20250619T203000
DTSTAMP:20260422T184811
CREATED:20250604T025532Z
LAST-MODIFIED:20250604T025532Z
UID:506-1750359600-1750365000@ahepa286.org
SUMMARY:Chapter 286 Meeting
DESCRIPTION:Last meeting before summer break
URL:https://ahepa286.org/event/chapter-286-meeting-3/
LOCATION:Chris’s Charcoal Pit\, 3283 Solomons Island Rd\, Edgewater\, Maryland\, 21037
ORGANIZER;CN="AHEPA Chapter 286":MAILTO:ahepa286p@gmail.com
END:VEVENT
BEGIN:VEVENT
DTSTART;TZID=America/New_York:20250417T190000
DTEND;TZID=America/New_York:20250417T203000
DTSTAMP:20260422T184811
CREATED:20250303T221247Z
LAST-MODIFIED:20250303T221247Z
UID:497-1744916400-1744921800@ahepa286.org
SUMMARY:Chapter 286 Meeting
DESCRIPTION:Location TBD
URL:https://ahepa286.org/event/chapter-286-meeting-2/
LOCATION:MD
END:VEVENT
BEGIN:VEVENT
DTSTART;TZID=America/New_York:20250320T190000
DTEND;TZID=America/New_York:20250320T203000
DTSTAMP:20260422T184811
CREATED:20250303T220903Z
LAST-MODIFIED:20250303T221027Z
UID:492-1742497200-1742502600@ahepa286.org
SUMMARY:Chapter 286 Meeting
DESCRIPTION:Double T Diner \n12 Defense St \nAnnapolis\, MD 21401
URL:https://ahepa286.org/event/chapter-286-meeting/
LOCATION:Double T Diner\, 12 Defense St\, Annapolis\, MD\, 21401
END:VEVENT
BEGIN:VEVENT
DTSTART;TZID=America/New_York:20250227T190000
DTEND;TZID=America/New_York:20250227T203000
DTSTAMP:20260422T184811
CREATED:20250123T104516Z
LAST-MODIFIED:20250123T104516Z
UID:371-1740682800-1740688200@ahepa286.org
SUMMARY:February Chapter Meeting
DESCRIPTION:Feb 27\, 2025 \n7:00-8:30pm \nLocation TBD
URL:https://ahepa286.org/event/february-chapter-meeting/
LOCATION:MD
ORGANIZER;CN="AHEPA Chapter 286":MAILTO:ahepa286p@gmail.com
END:VEVENT
BEGIN:VEVENT
DTSTART;TZID=America/New_York:20250209T170000
DTEND;TZID=America/New_York:20250209T220000
DTSTAMP:20260422T184811
CREATED:20250123T105738Z
LAST-MODIFIED:20250130T033150Z
UID:373-1739120400-1739138400@ahepa286.org
SUMMARY:SuperBowl Party
DESCRIPTION:https://st-theodore-greek-church.square.site/events \nFebruary 9\, 2025 \n5:00pm till Games end \nSt. Theodore Greek Orthodox Church \n7101 Cipriano Rd \nLanham\, MD 20706-3808 \n 
URL:https://ahepa286.org/event/superbowl-party/
LOCATION:St. Theodore Greek Orthodox Church\, 7101 Cipriano Rd\, Lanham\, MD\, 20706\, United States
END:VEVENT
BEGIN:VEVENT
DTSTART;TZID=America/New_York:20250122T190000
DTEND;TZID=America/New_York:20250122T203000
DTSTAMP:20260422T184811
CREATED:20250119T090128Z
LAST-MODIFIED:20250119T090521Z
UID:265-1737572400-1737577800@ahepa286.org
SUMMARY:January Chapter Meeting
DESCRIPTION:
URL:https://ahepa286.org/event/january-chapter-meeting-2/
LOCATION:Chris’s Charcoal Pit\, 3283 Solomons Island Rd\, Edgewater\, Maryland\, 21037
ORGANIZER;CN="AHEPA Chapter 286":MAILTO:ahepa286p@gmail.com
END:VEVENT
END:VCALENDAR